BEGIN:VCALENDAR
VERSION:2.0
PRODID:-//Reit- und Fahrverein Vögelsen-Mechtersen - ECPv6.15.20//NONSGML v1.0//EN
CALSCALE:GREGORIAN
METHOD:PUBLISH
X-ORIGINAL-URL:https://eventing-mechtersen.de
X-WR-CALDESC:Veranstaltungen für Reit- und Fahrverein Vögelsen-Mechtersen
REFRESH-INTERVAL;VALUE=DURATION:PT1H
X-Robots-Tag:noindex
X-PUBLISHED-TTL:PT1H
BEGIN:VTIMEZONE
TZID:Europe/Berlin
BEGIN:DAYLIGHT
TZOFFSETFROM:+0100
TZOFFSETTO:+0200
TZNAME:CEST
DTSTART:20250330T010000
END:DAYLIGHT
BEGIN:STANDARD
TZOFFSETFROM:+0200
TZOFFSETTO:+0100
TZNAME:CET
DTSTART:20251026T010000
END:STANDARD
BEGIN:DAYLIGHT
TZOFFSETFROM:+0100
TZOFFSETTO:+0200
TZNAME:CEST
DTSTART:20260329T010000
END:DAYLIGHT
BEGIN:STANDARD
TZOFFSETFROM:+0200
TZOFFSETTO:+0100
TZNAME:CET
DTSTART:20261025T010000
END:STANDARD
BEGIN:DAYLIGHT
TZOFFSETFROM:+0100
TZOFFSETTO:+0200
TZNAME:CEST
DTSTART:20270328T010000
END:DAYLIGHT
BEGIN:STANDARD
TZOFFSETFROM:+0200
TZOFFSETTO:+0100
TZNAME:CET
DTSTART:20271031T010000
END:STANDARD
END:VTIMEZONE
BEGIN:VEVENT
DTSTART;TZID=Europe/Berlin:20260901T140000
DTEND;TZID=Europe/Berlin:20260901T190000
DTSTAMP:20260424T044907
CREATED:20260224T170801Z
LAST-MODIFIED:20260224T170801Z
UID:2219-1788271200-1788289200@eventing-mechtersen.de
SUMMARY:Geländetraining mit Hans Melzer
DESCRIPTION:Geländetraining mit dem ehemaligen Bundestrainer Hans Melzer nachmittags ab 14 Uhr. \nTeilnehmer: E sicher bis CCI2**. \nDieser Lehrgang dient u.a. als Vorbereitung für das Vielseitigkeitsturnier vom 24. -27. September 2026. \nDanach ist das Gelände aufgrund von Vorbereitungsmaßnahmen bis zum Turnier gesperrt. \nEs wird in 3 er Gruppen geritten. \n1 UE      60\,- Euro für Mitglieder des RV VM \n75\,- Euro für Nicht-Mitglieder (bis 18 Jahre\, inklusive 15\,- Platzgebühr) \n80\,-Euro für Nicht-Mitglieder (Erwachsene\, inklusive 20\,- Platzgebühr) \nAnmeldungen per E-Mail an Tine Stürken:  sport@eventing-mechtersen.de bitte mit \n! Name und Alter des Reiters und Pferdes; Ausbildungsstand Reiter und Pferd; Angabe des Reitvereins und hilfreich bitte auch die Telefonnummer der Teilnehmer. \nFür weitere Informationen bitte unter 0172 400 7724 melden (Tine Stürken). \n 
URL:https://eventing-mechtersen.de/event/gelaendetraining-mit-hans-melzer-2
LOCATION:Mechtersen\, Brockwinklerweg 1\, 21358 Mechtersen\, Niedersachsen\, 21358\, Deutschland
CATEGORIES:Events,Platzbelegung
ATTACH;FMTTYPE=image/jpeg:https://eventing-mechtersen.de/wp-content/uploads/2023/02/Hans-Melzer.jpg
END:VEVENT
END:VCALENDAR