BEGIN:VCALENDAR
VERSION:2.0
PRODID:-//Reit- und Fahrverein Vögelsen-Mechtersen - ECPv6.15.20//NONSGML v1.0//EN
CALSCALE:GREGORIAN
METHOD:PUBLISH
X-ORIGINAL-URL:https://eventing-mechtersen.de
X-WR-CALDESC:Veranstaltungen für Reit- und Fahrverein Vögelsen-Mechtersen
REFRESH-INTERVAL;VALUE=DURATION:PT1H
X-Robots-Tag:noindex
X-PUBLISHED-TTL:PT1H
BEGIN:VTIMEZONE
TZID:Europe/Berlin
BEGIN:DAYLIGHT
TZOFFSETFROM:+0100
TZOFFSETTO:+0200
TZNAME:CEST
DTSTART:20250330T010000
END:DAYLIGHT
BEGIN:STANDARD
TZOFFSETFROM:+0200
TZOFFSETTO:+0100
TZNAME:CET
DTSTART:20251026T010000
END:STANDARD
BEGIN:DAYLIGHT
TZOFFSETFROM:+0100
TZOFFSETTO:+0200
TZNAME:CEST
DTSTART:20260329T010000
END:DAYLIGHT
BEGIN:STANDARD
TZOFFSETFROM:+0200
TZOFFSETTO:+0100
TZNAME:CET
DTSTART:20261025T010000
END:STANDARD
BEGIN:DAYLIGHT
TZOFFSETFROM:+0100
TZOFFSETTO:+0200
TZNAME:CEST
DTSTART:20270328T010000
END:DAYLIGHT
BEGIN:STANDARD
TZOFFSETFROM:+0200
TZOFFSETTO:+0100
TZNAME:CET
DTSTART:20271031T010000
END:STANDARD
END:VTIMEZONE
BEGIN:VEVENT
DTSTART;VALUE=DATE:20260518
DTEND;VALUE=DATE:20260608
DTSTAMP:20260424T005734
CREATED:20260224T184904Z
LAST-MODIFIED:20260224T184904Z
UID:2255-1779062400-1780876799@eventing-mechtersen.de
SUMMARY:Platzsperrung
DESCRIPTION:
URL:https://eventing-mechtersen.de/event/platzsperrung
LOCATION:Mechtersen\, Brockwinklerweg 1\, 21358 Mechtersen\, Niedersachsen\, 21358\, Deutschland
CATEGORIES:Events,Platzbelegung
ATTACH;FMTTYPE=image/jpeg:https://eventing-mechtersen.de/wp-content/uploads/2025/01/UGO5752-scaled.jpg
END:VEVENT
BEGIN:VEVENT
DTSTART;VALUE=DATE:20260604
DTEND;VALUE=DATE:20260605
DTSTAMP:20260424T005734
CREATED:20260224T184750Z
LAST-MODIFIED:20260408T121205Z
UID:2253-1780531200-1780617599@eventing-mechtersen.de
SUMMARY:Sommerturnier
DESCRIPTION:Alle weiteren Informationen entnehmen Sie bitte der nationalen Ausschreibung unter NEON online: \nAusschreibung: \nMechtersen_Ausschreibung_30052026 Mai Turnier
URL:https://eventing-mechtersen.de/event/sommerturnier-3
LOCATION:Mechtersen\, Brockwinklerweg 1\, 21358 Mechtersen\, Niedersachsen\, 21358\, Deutschland
CATEGORIES:Events,Platzbelegung
ATTACH;FMTTYPE=image/jpeg:https://eventing-mechtersen.de/wp-content/uploads/2022/03/image0-2.jpeg
END:VEVENT
BEGIN:VEVENT
DTSTART;VALUE=DATE:20260606
DTEND;VALUE=DATE:20260608
DTSTAMP:20260424T005734
CREATED:20260224T183415Z
LAST-MODIFIED:20260224T183415Z
UID:2235-1780704000-1780876799@eventing-mechtersen.de
SUMMARY:Regionsmeisterschaften Vierkampf 2026
DESCRIPTION:In diesem Jahr finden die Regionsmeisterschaften im Drei- und Vierkampf in Mechtersen statt. \nIn Kürze werden die Ausschreibung und weitere Informationen veröffentlicht. \nFalls vorher schon Fragen oder Interesse am Vierkampf-Team besteht\, melden Sie sich bitte bei unserer Jugendwartin \nAnna Staroste (mobil 0162 4184022)
URL:https://eventing-mechtersen.de/event/regionsmeisterschaften-vierkampf-2026
LOCATION:Mechtersen\, Brockwinklerweg 1\, 21358 Mechtersen\, Niedersachsen\, 21358\, Deutschland
CATEGORIES:Events,Platzbelegung
ATTACH;FMTTYPE=image/jpeg:https://eventing-mechtersen.de/wp-content/uploads/2024/12/Homepage-Vierkampf-scaled.jpeg
END:VEVENT
BEGIN:VEVENT
DTSTART;TZID=Europe/Berlin:20260616T140000
DTEND;TZID=Europe/Berlin:20260616T190000
DTSTAMP:20260424T005734
CREATED:20260227T094844Z
LAST-MODIFIED:20260306T213114Z
UID:2268-1781618400-1781636400@eventing-mechtersen.de
SUMMARY:Unterricht / Mentaltraining bei Annika Thode
DESCRIPTION:Wir freuen uns im diesem Jahr mal Annika Thode bei uns in Mechtersen begrüßen zu dürfen! Annika Thode ist Trainerin B (Leistungssport) und Trainerin B (Mentaltraining)\, Neurorider Trainerin und hat die Ergänzungsqualifikation „Sitz und Gleichgewicht“ der FN bei Isabelle Neumann-Cosel an der Landesreitschule in Dillenburg erworben.\n❖\nSie unterrichtet Dressur\, Springgymnastik und Geländereiten und legt viel Wert auf den funktionellen Sitz und die Zusammenhänge des richtigen Timings in der Hilfengebung\, welches mit Techniken des Mentalen Trainings und der Neuroathletik kombiniert wird. Das macht Spaß und bringt viele Lösungsideen. Dieser Lehrgangstag ist offen für Reiter aller Leistungsniveaus! \nWeitere Informationen sind in den sozialen Netzwerken und bei Clipmyhorse unter annika_thode_mentaltraining zu finden! \nKosten: \n 55\,- € für 30 Minuten Einzelunterricht \n80\,- € für 45 Minuten Einzelunterricht\n129\,- € für 60 bis 90 Minuten Einzelcoaching (Mentaltraining ohne Pferd) \nfür Mitglieder des Reitvereins Vögelsen Mechtersen. \nFür Nicht-Mitglieder kommen 15\,- Platzgebühr für Jugendliche (bis 18 Jahre) oder 20\,- für Erwachsene hinzu. \n  \nAnmeldungen per E-Mail an Tine Stürken:  sport@eventing-mechtersen.de bitte mit \n! Name und Alter des Reiters und Pferdes; Ausbildungsstand Reiter und Pferd; Angabe des Reitvereins und hilfreich bitte auch die Telefonnummer der Teilnehmer. \nFür weitere Informationen bitte unter 0172 400 7724 melden (Tine Stürken). \n 
URL:https://eventing-mechtersen.de/event/lehrgangstag-bei-annika-thode
LOCATION:Mechtersen\, Brockwinklerweg 1\, 21358 Mechtersen\, Niedersachsen\, 21358\, Deutschland
CATEGORIES:Events,Platzbelegung
ATTACH;FMTTYPE=image/jpeg:https://eventing-mechtersen.de/wp-content/uploads/2026/02/PHOTO-2026-03-05-13-51-30.jpg
END:VEVENT
BEGIN:VEVENT
DTSTART;TZID=Europe/Berlin:20260624T140000
DTEND;TZID=Europe/Berlin:20260624T190000
DTSTAMP:20260424T005734
CREATED:20260224T165830Z
LAST-MODIFIED:20260224T165830Z
UID:2213-1782309600-1782327600@eventing-mechtersen.de
SUMMARY:Einsteiger-Geländetraining speziell für Kinder\, Anfänger und Wiedereinsteiger mit Yvonne Neven
DESCRIPTION:Dieses Geländetraining ist hauptsächlich für Kinder\, Anfänger und auch Wiedereinsteiger für das „Reinschnuppern“ in das Vielseitigkeitsreiten ausgelegt. Es geht um die Vertiefung des sicheren Sitzes im Gelände in allen drei Grundgangarten auf freier Fläche und sicheres Reiten von Geländegegebenheiten wie Wasser\, Hügel\, Kanten\, mit Springen von verschiedenen Geländehindernissen auf Niveau des Gelände-Reiterwettbewerbes (auch Führzügel) bis hin zur Klasse E/A. \nVoraussetzungen: \n– ausbalancierter Sitz in allen 3 Grundgangarten\, sicherer leichter Sitz \n– Kontrolle über das Pferd/Pony \nGeritten wird in 4er Gruppen! \n1 UE kostet \n30\,- Euro für Mitglieder des RV VM \n45\,- Euro für Nicht-Mitglieder (bis 18 Jahre\, inklusive 15\,- Platzgebühr) \n50\,-Euro für Nicht-Mitglieder (Erwachsene\, inklusive 20\,- Platzgebühr) \nAnmeldungen per E-Mail an Tine Stürken:  sport@eventing-mechtersen.de \nbitte mit \nName und Alter des Reiters und Pferdes; Ausbildungsstand Reiter und Pferd; Angabe des Reitvereins und hilfreich bitte auch die Telefonnummer der Teilnehmer und falls Zeiten gewünscht werden\, auch bitte alles mit angeben. Ansonsten erfolgt die Einteilung nach Ausbildungsstand und Reihenfolge der eingegangenen Anmeldung. \nFür weitere Informationen bitte unter 0172 400 7724 melden (Tine Stürken). \n 
URL:https://eventing-mechtersen.de/event/einsteiger-gelaendetraining-speziell-fuer-kinder-anfaenger-und-wiedereinsteiger-mit-yvonne-neven-2
LOCATION:Mechtersen\, Brockwinklerweg 1\, 21358 Mechtersen\, Niedersachsen\, 21358\, Deutschland
CATEGORIES:Events,Platzbelegung
ATTACH;FMTTYPE=image/jpeg:https://eventing-mechtersen.de/wp-content/uploads/2025/01/Yvonne-Neven-2.jpg
END:VEVENT
BEGIN:VEVENT
DTSTART;TZID=Europe/Berlin:20260625T140000
DTEND;TZID=Europe/Berlin:20260625T190000
DTSTAMP:20260424T005734
CREATED:20260224T164756Z
LAST-MODIFIED:20260410T083058Z
UID:2208-1782396000-1782414000@eventing-mechtersen.de
SUMMARY:Geländetraining mit Claus Erhorn
DESCRIPTION:Geländetraining mit dem Reitmeister und Olympiasieger Claus Erhorn nachmittags ab 14 Uhr. \nTeilnehmer: E sicher bis CCI2** \n  \nEs wird in 3 er Gruppen geritten. \n1 UE      60\,- Euro für Mitglieder des RV VM \n75\,- Euro für Nicht-Mitglieder (bis 18 Jahre\, inklusive 15\,- Platzgebühr) \n80\,-Euro für Nicht-Mitglieder (Erwachsene\, inklusive 20\,- Platzgebühr) \nAnmeldungen per E-Mail an Tine Stürken:  sport@eventing-mechtersen.de bitte mit \n! Name und Alter des Reiters und Pferdes; Ausbildungsstand Reiter und Pferd; Angabe des Reitvereins und hilfreich bitte auch die Telefonnummer der Teilnehmer. \nFür weitere Informationen bitte unter 0172 400 7724 melden (Tine Stürken). \n 
URL:https://eventing-mechtersen.de/event/gelaendetraining-mit-claus-ehrhorn
LOCATION:Mechtersen\, Brockwinklerweg 1\, 21358 Mechtersen\, Niedersachsen\, 21358\, Deutschland
CATEGORIES:Events,Platzbelegung
ATTACH;FMTTYPE=image/jpeg:https://eventing-mechtersen.de/wp-content/uploads/2026/02/PHOTO-2026-02-25-23-17-58.jpg
END:VEVENT
END:VCALENDAR